BEGIN:VCALENDAR
VERSION:2.0
PRODID:-//ChamberMaster//Event Calendar 2.0//EN
METHOD:PUBLISH
X-PUBLISHED-TTL:P3D
REFRESH-INTERVAL:P3D
CALSCALE:GREGORIAN
BEGIN:VEVENT
DTSTART:20180116T234500Z
DTEND:20180117T010000Z
X-MICROSOFT-CDO-ALLDAYEVENT:FALSE
SUMMARY:Make & Take Rollers Wellness Workshop-Support for 2018!
DESCRIPTION:Who Can Afford To Be Sick??\n\nTaking Control Of Your Health!\nApex Chamber Wellness Workshops Continue in 2018 Every Third Tuesday in the Conference Room!\n\nMake a 5ml roller blend of your choice for $5\n\n\n\nUse Orange\, Peppermint\, Lemon & More to Keep  Your Body Healthy Through Flu Season!\n\nWHEN:   Tuesday\, January 16th\, 2018    Time: 645-8pm\n\nWHERE: Apex Chamber Conference Rm\, 220 N Salem St\, Apex\, NC         Consultation is FREE! \n\n \n\nPlease RSVP by 3pm JAN 16TH to Angie Ceroli\, 919 656-0963\,\n\nangceroli@gmail.com\, www.mydoterra.com/986534
X-ALT-DESC;FMTTYPE=text/html:<div style="text-align: center\;"><span style="color:#000000"><strong><span style="font-family:arial narrow\,sans-serif"><span style="font-size:28pt">Who Can Afford To Be Sick??</span></span></strong><br />\n<strong><span style="font-family:arial narrow\,sans-serif"><span style="font-size:28pt">Taking Control Of Your Health!</span></span></strong></span></div>\n<strong><span style="color:red"><span style="font-size:19.5pt">Apex Chamber Wellness Workshops Continue in 2018 Every Third Tuesday in the Conference Room!<br />\nMake a 5ml roller blend of your choice for $5</span></span></strong><br />\n<br />\n<strong><span style="color:#1F497D"><span style="font-size:19.5pt">Use Orange\, Peppermint\, Lemon &amp\; More to Keep&nbsp\; Your Body</span></span></strong><strong><span style="color:#1F497D"><span style="font-size:19.5pt"> Healthy Through Flu Season!</span></span><br />\n<span style="color:blue"><span style="font-family:arial narrow\,sans-serif"><span style="font-size:24.0pt">WHEN:&nbsp\; &nbsp\;Tuesday\, January 16th\, 2018 &nbsp\;&nbsp\; Time: 645-8pm</span></span></span></strong><br />\n<strong><span style="color:blue"><span style="font-family:arial narrow\,sans-serif"><span style="font-size:24.0pt">WHERE: </span></span></span></strong><strong><span style="color:blue"><span style="font-family:arial narrow\,sans-serif"><span style="font-size:20.0pt">Apex Chamber Conference Rm\, 220 N Salem St\, Apex\, NC</span></span></span></strong><span style="font-size:18px"><strong><span style="color:red">&nbsp\;&nbsp\;&nbsp\;&nbsp\;&nbsp\;&nbsp\;&nbsp\;&nbsp\; Consultation is FREE! </span></strong><br />\n&nbsp\;</span><br />\n<span style="font-family:arial\,sans-serif"><span style="font-size:16.0pt">Please RSVP by 3pm JAN 16TH to Angie Ceroli\, 919 656-0963\,</span></span><br />\n<a href="mailto:angceroli@gmail.com"><span style="font-family:arial\,sans-serif"><span style="font-size:16.0pt">angceroli@gmail.com</span></span></a><span style="font-family:arial\,sans-serif"><span style="font-size:16.0pt">\, www.mydoterra.com/986534</span></span><br />\n<br />\n&nbsp\;
LOCATION:Apex Chamber\, 220 N Salem St\, Apex
UID:e.502.5150
SEQUENCE:3
DTSTAMP:20260423T163209Z
URL:https://business.apexchamber.com/events/details/make-take-rollers-wellness-workshop-support-for-2018-5150
END:VEVENT

END:VCALENDAR
