BEGIN:VCALENDAR
VERSION:2.0
PRODID:-//ChamberMaster//Event Calendar 2.0//EN
METHOD:PUBLISH
X-PUBLISHED-TTL:P3D
REFRESH-INTERVAL:P3D
CALSCALE:GREGORIAN
BEGIN:VEVENT
DTSTART:20170413T230000Z
DTEND:20170414T010000Z
X-MICROSOFT-CDO-ALLDAYEVENT:FALSE
SUMMARY:Maundy Thursday
DESCRIPTION:Join in celebrating the event of Jesus' Last Supper with His disciples before His Crucifixion.
X-ALT-DESC;FMTTYPE=text/html:Join in celebrating the event of Jesus&#39\; Last Supper with His disciples before His Crucifixion.
LOCATION:New Horizons Fellowship 820 E. Williams St Apex
UID:e.502.3495
SEQUENCE:3
DTSTAMP:20260425T201817Z
URL:https://business.apexchamber.com/events/details/maundy-thursday-3495
END:VEVENT

END:VCALENDAR
