BEGIN:VCALENDAR
VERSION:2.0
PRODID:-//ChamberMaster//Event Calendar 2.0//EN
METHOD:PUBLISH
X-PUBLISHED-TTL:P3D
REFRESH-INTERVAL:P3D
CALSCALE:GREGORIAN
BEGIN:VEVENT
DTSTART:20180528T123000Z
DTEND:20180528T133000Z
X-MICROSOFT-CDO-ALLDAYEVENT:FALSE
SUMMARY:Memorial Day Ceremony
DESCRIPTION:MEMORIAL DAY CEREMONY! Come join us on May 28 at the Service Memorial in #DowntownApex. *Mayor Lance Olive will be the speaker this year! https://www.facebook.com/events/952650794889134/
X-ALT-DESC;FMTTYPE=text/html:MEMORIAL DAY CEREMONY! Come join us on May 28 at the Service Memorial in #DowntownApex. *Mayor Lance Olive will be the speaker this year! https://www.facebook.com/events/952650794889134/
LOCATION:Service Memorial in Downtown Apex
UID:e.502.5988
SEQUENCE:3
DTSTAMP:20260426T041619Z
URL:https://business.apexchamber.com/events/details/memorial-day-ceremony-5988
END:VEVENT

END:VCALENDAR
