BEGIN:VCALENDAR
VERSION:2.0
PRODID:-//ChamberMaster//Event Calendar 2.0//EN
METHOD:PUBLISH
X-PUBLISHED-TTL:P3D
REFRESH-INTERVAL:P3D
CALSCALE:GREGORIAN
BEGIN:VEVENT
DTSTART:20171219T230000Z
DTEND:20171220T010000Z
X-MICROSOFT-CDO-ALLDAYEVENT:FALSE
SUMMARY:Men's Night Out
DESCRIPTION:Need a gift for your honey\, but don't know where to start?! Fellas\, The Perky Lady's got you covered! Grab a beer and stroll through our boutique as our doors close for this private holiday shopping opportunity. The Perky Lady herself will be there ensuring you give your honey a very very merry Christmas this year! \n\n\n\nEasy & relaxed...buying tips\, suggestions\, & Q&A. Men only. FREE GIFT WRAPPING during the event!
X-ALT-DESC;FMTTYPE=text/html:Need a gift for your honey\, but don&#39\;t know where to start?! Fellas\,&nbsp\;<span style="color:rgb(75\, 79\, 86)\; font-family:helvetica\,arial\,sans-serif\; font-size:14px">The Perky Lady&#39\;s got you covered!&nbsp\;</span>Grab a beer and stroll through our boutique as our doors close for this private holiday shopping opportunity. <span style="color:rgb(75\, 79\, 86)\; font-family:helvetica\,arial\,sans-serif\; font-size:14px">The Perky Lady herself will be there ensuring you give your honey a very very merry Christmas this year!&nbsp\;<br />\n<br />\nEasy &amp\; relaxed...buying tips\, suggestions\, &amp\; Q&amp\;A. Men only. FREE GIFT WRAPPING during the event!</span><br />\n<br />\n<span style="color:rgb(75\, 79\, 86)\; font-family:helvetica\,arial\,sans-serif\; font-size:14px">&nbsp\;</span><br />\n<br />\n<br />\n<br />\n&nbsp\;
LOCATION:The Perky Lady 106 W Chatham St Apex\, NC
UID:e.502.5117
SEQUENCE:3
DTSTAMP:20260423T235913Z
URL:https://business.apexchamber.com/events/details/men-s-night-out-5117
END:VEVENT

END:VCALENDAR
