BEGIN:VCALENDAR
VERSION:2.0
PRODID:-//ChamberMaster//Event Calendar 2.0//EN
METHOD:PUBLISH
X-PUBLISHED-TTL:P3D
REFRESH-INTERVAL:P3D
CALSCALE:GREGORIAN
BEGIN:VEVENT
DTSTART:20171006T140000Z
DTEND:20171006T170000Z
X-MICROSOFT-CDO-ALLDAYEVENT:FALSE
SUMMARY:MFG Day hosted by Dell
DESCRIPTION:Come and visit a world class information technology manufacturing site. Dell is a powerhouse in the IT world. With the recent merger of EMC and Dell\, Dell operates a North Carolina based manufacturing facility\, a software development facility in RTP and a state-of-the-art Data Center in Morrisville. We will have a tent with interactive displays\, factory tours\, drinks/refreshments and Dell giveaways. Displays will include: Community involvement\, Customer Appreciation\, Lean/Six Sigma\, Employee Diversity Circles\, Toastmasters\, etc. Dress for the weather. Event will be outside under a huge tent. Factory tours will be given in our 388\,000 sq. ft. facility. Bus parking available.
X-ALT-DESC;FMTTYPE=text/html:Come and visit a world class information technology manufacturing site. Dell is a powerhouse in the IT world. With the recent merger of EMC and Dell\, Dell operates a North Carolina based manufacturing facility\, a software development facility in RTP and a state-of-the-art Data Center in Morrisville. We will have a tent with interactive displays\, factory tours\, drinks/refreshments and Dell giveaways. Displays will include: Community involvement\, Customer Appreciation\, Lean/Six Sigma\, Employee Diversity Circles\, Toastmasters\, etc. Dress for the weather. Event will be outside under a huge tent. Factory tours will be given in our 388\,000 sq. ft. facility. Bus parking available.
LOCATION:Dell 5800 Technology Drive Apex\, NC 27530
UID:e.502.4738
SEQUENCE:3
DTSTAMP:20260424T081233Z
URL:https://business.apexchamber.com/events/details/mfg-day-hosted-by-dell-4738
END:VEVENT

END:VCALENDAR
