BEGIN:VCALENDAR
VERSION:2.0
PRODID:-//ChamberMaster//Event Calendar 2.0//EN
METHOD:PUBLISH
X-PUBLISHED-TTL:P3D
REFRESH-INTERVAL:P3D
CALSCALE:GREGORIAN
BEGIN:VEVENT
DTSTART:20180501T230000Z
DTEND:20180502T010000Z
X-MICROSOFT-CDO-ALLDAYEVENT:FALSE
SUMMARY:Music Bingo at Glory Days Grill!
DESCRIPTION:Come join us for an amazing night of music\, prizes\, and drink specials! It's Music Bingo at Glory Days Grill. Test your music knowledge and compete against your friends and other patrons. It is easy to play\, and everyone is welcome. We will see you there!
X-ALT-DESC;FMTTYPE=text/html:Come join us for an amazing night of music\, prizes\, and drink specials! It&#39\;s Music Bingo at Glory Days Grill. Test your music knowledge and compete against your friends and other patrons. It is easy to play\, and everyone is welcome. We will see you there!
LOCATION:
UID:e.502.5900
SEQUENCE:3
DTSTAMP:20260422T185314Z
URL:https://business.apexchamber.com/events/details/music-bingo-5900
END:VEVENT

END:VCALENDAR
