BEGIN:VCALENDAR
VERSION:2.0
PRODID:-//ChamberMaster//Event Calendar 2.0//EN
METHOD:PUBLISH
X-PUBLISHED-TTL:P3D
REFRESH-INTERVAL:P3D
CALSCALE:GREGORIAN
BEGIN:VEVENT
DTSTART:20180322T220000Z
DTEND:20180323T000000Z
X-MICROSOFT-CDO-ALLDAYEVENT:FALSE
SUMMARY:RESCHEDULED: Natural Wellness Workshop TO THURSDAY!
DESCRIPTION:RESCHEDULED TO THURSDAY MAR 22ND!!\n\nJoin us on the Path to Wellness!\nLearn about Natural Options to Get Toxins Out of our Bodies and Environment \n\nGet Empowered to Take Control of Your Health!\n\nWe'll learn about and experience PLANTS with antibacterial\, antiviral and antiseptic properties to Get Toxins Out!\n\nPractical Solutions Like use of Apple Cider Vinegar will be introduced as well!\n\nMake a $5 roller blend of choice OR an all-purpose cleaner for $8\n\nWHEN:   Tuesday\, March 20th\, 2018 \n\nWe meet every 3rd Tuesday!\n\nTime:  645-8pm\n\nWHERE: Apex Chamber Conference Room\, 220 N Salem St\, Apex\, NC
X-ALT-DESC;FMTTYPE=text/html:<span style="color:#FF0000"><strong><span style="font-family:arial narrow\,sans-serif"><span style="font-size:28pt">RESCHEDULED TO THURSDAY MAR 22ND!!<br />\nJoin us on the Path to Wellness!</span></span></strong></span>\n<div style="text-align:center"><span style="color:#008000"><span style="font-size:34.6667px"><strong>Learn about Natural Options to Get Toxins Out of our Bodies and Environment</strong></span><strong><span style="font-family:arial narrow\,sans-serif"><span style="font-size:24pt">&nbsp\;</span></span></strong></span></div>\n\n<div style="text-align:center"><strong><span style="color:blue"><span style="font-family:arial narrow\,sans-serif"><span style="font-size:24pt">Get Empowered to Take&nbsp\;</span></span></span></strong><strong><span style="color:blue"><span style="font-family:arial narrow\,sans-serif"><span style="font-size:24pt">Control of Your Health!</span></span></span></strong></div>\n\n<div style="text-align:center"><strong><span style="font-family:arial narrow\,sans-serif"><span style="font-size:24pt">We&rsquo\;ll learn about and experience PLANTS with antibacterial\, antiviral and antiseptic properties to Get Toxins Out!<br />\nPractical Solutions Like use of Apple Cider Vinegar will be introduced as well!</span></span></strong></div>\n\n<div style="text-align:center"><strong><span style="font-family:arial narrow\,sans-serif"><span style="font-size:24pt">Make a $5 roller blend of choice OR an all-purpose cleaner for $8</span></span></strong></div>\n\n<div style="text-align:center"><strong><span style="color:blue"><span style="font-family:arial narrow\,sans-serif"><span style="font-size:24pt">WHEN:&nbsp\; &nbsp\;Tuesday\, March 20th\, 2018&nbsp\;</span></span></span></strong><br />\n<strong><span style="font-family:arial narrow\,sans-serif"><span style="font-size:20pt">We meet every 3<sup>rd</sup>&nbsp\;Tuesday!</span></span></strong><br />\n<strong><span style="color:blue"><span style="font-family:arial narrow\,sans-serif"><span style="font-size:24pt">Time: &nbsp\;645-8pm</span></span></span></strong><br />\n<strong><span style="color:blue"><span style="font-family:arial narrow\,sans-serif"><span style="font-size:24pt">WHERE:&nbsp\;</span></span></span></strong><strong><span style="color:blue"><span style="font-family:arial narrow\,sans-serif"><span style="font-size:20pt">Apex Chamber Conference Room\, 220 N Salem St\, Apex\, NC</span></span></span></strong></div>\n
LOCATION:Apex Chamber Conference Room\, 220 N Salem St\, Apex\, NC
UID:e.502.5206
SEQUENCE:3
DTSTAMP:20260421T172427Z
URL:https://business.apexchamber.com/events/details/natural-wellness-workshop-every-3rd-tuesday-5206
END:VEVENT

END:VCALENDAR
