BEGIN:VCALENDAR
VERSION:2.0
PRODID:-//ChamberMaster//Event Calendar 2.0//EN
METHOD:PUBLISH
X-PUBLISHED-TTL:P3D
REFRESH-INTERVAL:P3D
CALSCALE:GREGORIAN
BEGIN:VEVENT
DTSTART:20210826T213000Z
DTEND:20210826T230000Z
X-MICROSOFT-CDO-ALLDAYEVENT:FALSE
SUMMARY:Networking at Nite (formerly Business After Hours)
DESCRIPTION:Join us for Networking at Nite\, which we used to call Business After Hours!\n\nWe are following State & Local Mandates and will let you know if anything changes.
X-ALT-DESC;FMTTYPE=text/html:Join us for Networking at Nite\, which we used to call Business After Hours!<br />\nWe are following State &amp\; Local Mandates and will let you know if anything changes.
LOCATION:Ruckus Pizza\, Pasta & Spirits (patio) 1055 Pine Plaza Dr. Apex\, NC 27523
UID:e.502.8983
SEQUENCE:3
DTSTAMP:20260426T002441Z
URL:https://business.apexchamber.com/events/details/networking-at-nite-formerly-business-after-hours-08-26-2021-8983
END:VEVENT

END:VCALENDAR
