BEGIN:VCALENDAR
VERSION:2.0
PRODID:-//ChamberMaster//Event Calendar 2.0//EN
METHOD:PUBLISH
X-PUBLISHED-TTL:P3D
REFRESH-INTERVAL:P3D
CALSCALE:GREGORIAN
BEGIN:VEVENT
DTSTART:20180606T220000Z
DTEND:20180607T000000Z
X-MICROSOFT-CDO-ALLDAYEVENT:FALSE
SUMMARY:Next Level Networking!
DESCRIPTION:Greetings Friends and Colleagues!\n\n \n\nOn behalf of Sam from Cambridge Village of Apex and Kristin from PayStub People\, you are invited to an exciting new networking group\, Next Level Networking! Come grow your business and make relationships while participating in a fun activity.\n\n \n\nWe will host our first event at Pinot's Palette Apex for an exciting paint night. The theme will be Musical Chair Painting - Paint one step\, then move to a different seat to continue on to the next step and meet a new group of people!\n\n \n\n \n\nAdmission is just $10 which includes all painting materials\, food\, drink\, and your beautiful painting to take home!\n\n \n\nPlease click the link below to register\n\nhttps://www.pinotspalette.com/apex/event/238790 \n\nThank you to our sponsors!
X-ALT-DESC;FMTTYPE=text/html:<div><strong>Greetings Friends and Colleagues!</strong></div>\n\n<div>&nbsp\;</div>\n\n<p><strong>On behalf of Sam from&nbsp\;</strong><a href="http://www.cambridgevillageofapex.com/" style="background-image: initial\; background-position: initial\; background-size: initial\; background-repeat: initial\; background-attachment: initial\; background-origin: initial\; background-clip: initial\; color: rgb(16\, 15\, 21)\; font-size: 20px\; font-weight: bold\;" target="_blank">Cambridge Village of Apex</a><strong>&nbsp\;and Kristin from&nbsp\;</strong><a href="http://www.paystubpeople.com/" style="background-image: initial\; background-position: initial\; background-size: initial\; background-repeat: initial\; background-attachment: initial\; background-origin: initial\; background-clip: initial\; color: rgb(16\, 15\, 21)\; font-size: 20px\; font-weight: bold\;" target="_blank">PayStub People</a><strong>\, you are invited to an exciting new networking group\, Next Level Networking! Come grow your business and make relationships while participating in a fun activity.</strong></p>\n\n<div>&nbsp\;</div>\n\n<div><strong>We will host our first event at&nbsp\;</strong><a href="https://www.pinotspalette.com/apex" style="color: rgb(41\, 75\, 147)\; font-size: 20px\; font-weight: bold\;" target="_blank">Pinot&#39\;s Palette Apex</a><strong>&nbsp\;for an exciting paint night. The theme will be Musical Chair Painting - Paint one step\, then move to a different seat to continue on to the next step and meet a new group of people!</strong></div>\n\n<div>&nbsp\;</div>\n\n<div>&nbsp\;</div>\n\n<div><strong>Admission is just $10 which includes all painting materials\, food\, drink\, and your beautiful painting to take home!</strong><br />\n&nbsp\;</div>\n\n<h2><strong>Please click the link below to register</strong><br />\n<a href="https://www.pinotspalette.com/apex/event/238790">https://www.pinotspalette.com/apex/event/238790&nbsp\;</a></h2>\n\n<h2><strong>Thank you to our sponsors!&nbsp\;</strong></h2>\n
LOCATION:Pinot's Palette Apex 1553 Beaver Creek Commons Dr\, Apex\, NC 27502
UID:e.502.5970
SEQUENCE:3
DTSTAMP:20260421T030051Z
URL:https://business.apexchamber.com/events/details/next-level-networking-5970
END:VEVENT

END:VCALENDAR
