BEGIN:VCALENDAR
VERSION:2.0
PRODID:-//ChamberMaster//Event Calendar 2.0//EN
METHOD:PUBLISH
X-PUBLISHED-TTL:P3D
REFRESH-INTERVAL:P3D
CALSCALE:GREGORIAN
BEGIN:VEVENT
DTSTART:20171116T140000Z
DTEND:20171116T213000Z
X-MICROSOFT-CDO-ALLDAYEVENT:FALSE
SUMMARY:Notary Certification Class
DESCRIPTION:Join us for our Notary Certification Class!
X-ALT-DESC;FMTTYPE=text/html:Join us for our Notary Certification Class!<br />\n&nbsp\;&nbsp\;&nbsp\;&nbsp\;&nbsp\;&nbsp\;&nbsp\;&nbsp\;
LOCATION:Apex Chamber of Commerce 220 N Salem Street Apex\, NC 27502
UID:e.502.3212
SEQUENCE:3
DTSTAMP:20260423T052211Z
URL:https://business.apexchamber.com/events/details/notary-certification-class-3212
END:VEVENT

END:VCALENDAR
