BEGIN:VCALENDAR
VERSION:2.0
PRODID:-//ChamberMaster//Event Calendar 2.0//EN
METHOD:PUBLISH
X-PUBLISHED-TTL:P3D
REFRESH-INTERVAL:P3D
CALSCALE:GREGORIAN
BEGIN:VEVENT
DTSTART:20180405T130000Z
DTEND:20180405T203000Z
X-MICROSOFT-CDO-ALLDAYEVENT:FALSE
SUMMARY:Notary Certification Class
DESCRIPTION:Join us for our Notary Certification class!
X-ALT-DESC;FMTTYPE=text/html:Join us for our Notary Certification class!
LOCATION:Apex Chamber of Commerce 220 N. Salem Street Apex\, NC 27502
UID:e.502.5130
SEQUENCE:3
DTSTAMP:20260421T182816Z
URL:https://business.apexchamber.com/events/details/notary-certification-class-5130
END:VEVENT

END:VCALENDAR
