BEGIN:VCALENDAR
VERSION:2.0
PRODID:-//ChamberMaster//Event Calendar 2.0//EN
METHOD:PUBLISH
X-PUBLISHED-TTL:P3D
REFRESH-INTERVAL:P3D
CALSCALE:GREGORIAN
BEGIN:VEVENT
DTSTART;VALUE=DATE:20171201
DTEND;VALUE=DATE:20171204
TRANSP:TRANSPARENT
X-MICROSOFT-CDO-ALLDAYEVENT:TRUE
SUMMARY:Nutcracker Dances
DESCRIPTION:INFINITY BALLET THEATRE presents \n\nDANCES OF THE NUTCRACKER\n\n \n\nEnjoy all the festiviites of the Christmas Season in Apex and then find your seat for a special one hour performance of this lovely holiday favorite.
X-ALT-DESC;FMTTYPE=text/html:<h2>&nbsp\;</h2>\n\n<div style="text-align:center"><span style="font-family:inherit\; font-size:16.559999465942383px">INFINITY BALLET THEATRE&nbsp\;</span><span style="font-family:inherit\; font-size:16.559999465942383px">presents&nbsp\;</span><br />\n<em>DANCES OF THE NUTCRACKER</em></div>\n\n<div style="text-align:center">&nbsp\;</div>\n\n<div style="text-align:center">Enjoy all the festiviites of the Christmas Season in Apex and<span style="font-family:inherit">&nbsp\;then find&nbsp\;</span><span style="font-family:inherit">your seat for a special one hour performance of this lovely holiday favorite.</span></div>\n\n<div style="text-align:center">&nbsp\;</div>\n\n<div style="text-align:center">&nbsp\;</div>\n
LOCATION:Halle Cultural Arts Center of Apex
UID:e.502.5032
SEQUENCE:3
DTSTAMP:20260424T031634Z
URL:https://business.apexchamber.com/events/details/nutcracker-dances-5032
END:VEVENT

END:VCALENDAR
