BEGIN:VCALENDAR
VERSION:2.0
PRODID:-//ChamberMaster//Event Calendar 2.0//EN
METHOD:PUBLISH
X-PUBLISHED-TTL:P3D
REFRESH-INTERVAL:P3D
CALSCALE:GREGORIAN
BEGIN:VEVENT
DTSTART:20180203T000000Z
DTEND:20180203T020000Z
X-MICROSOFT-CDO-ALLDAYEVENT:FALSE
SUMMARY:Paint to Support DonateLifeNC
DESCRIPTION:It is National Wear Red Day! On this day\, men and women are encouraged to wear red as a symbol of their support of women's heart health. We have a special event on this special day - fundraiser for DonateLifeNC. (https://www.donatelifenc.org/) Please join us to support this worthy cause and save more lives!
X-ALT-DESC;FMTTYPE=text/html:It is National Wear Red Day! On this day\, men and women are encouraged to wear red as a symbol of their support of women&rsquo\;s heart health. We have a special event on this special day - fundraiser for DonateLifeNC. (https://www.donatelifenc.org/) Please join us to support this worthy cause and save more lives!
LOCATION:Pinot's Palette in Apex 1553 Beaver Creek Commons Dr. Apex\, NC 27502
UID:e.502.5201
SEQUENCE:3
DTSTAMP:20260421T172157Z
URL:https://business.apexchamber.com/events/details/paint-to-support-donatelifenc-5201
END:VEVENT

END:VCALENDAR
