BEGIN:VCALENDAR
VERSION:2.0
PRODID:-//ChamberMaster//Event Calendar 2.0//EN
METHOD:PUBLISH
X-PUBLISHED-TTL:P3D
REFRESH-INTERVAL:P3D
CALSCALE:GREGORIAN
BEGIN:VEVENT
DTSTART:20180216T230000Z
DTEND:20180217T020000Z
X-MICROSOFT-CDO-ALLDAYEVENT:FALSE
SUMMARY:Parents Night Out
DESCRIPTION:If you and your family are looking to connect with a local church\, you may want to consider this FREE event.  One of NHF's small groups is providing FREE kid care.  Kids will enjoy games\, crafts\, dinner and a kid-friendly movie.  RSVP to Terry Jane at: children@nhf.cc
X-ALT-DESC;FMTTYPE=text/html:If you and your family are looking to connect with a local church\, you may want to consider this FREE event. &nbsp\;One of NHF&#39\;s small groups is providing FREE kid care. &nbsp\;Kids will enjoy games\, crafts\, dinner and a kid-friendly movie. &nbsp\;RSVP to Terry Jane at: children@nhf.cc
LOCATION:New Horizons Fellowship 820 E Williams St Apex\, NC 27502 (919)303-5266
UID:e.502.3254
SEQUENCE:3
DTSTAMP:20260421T212454Z
URL:https://business.apexchamber.com/events/details/parents-night-out-3254
END:VEVENT

END:VCALENDAR
