BEGIN:VCALENDAR
VERSION:2.0
PRODID:-//ChamberMaster//Event Calendar 2.0//EN
METHOD:PUBLISH
X-PUBLISHED-TTL:P3D
REFRESH-INTERVAL:P3D
CALSCALE:GREGORIAN
BEGIN:VEVENT
DTSTART:20190513T140000Z
DTEND:20190513T210000Z
X-MICROSOFT-CDO-ALLDAYEVENT:FALSE
SUMMARY:Peak of Hope Invitational at MacGregor Downs Country Club
DESCRIPTION:Join us for our annual Peak of Hope Invitational!\n\n\n\nGolf Registration starts at 8:30 am\n\nShotgun Start at 10:00 am.\n\nAwards & Reception to immediately follow after golf\n\n\n\nSponsorships Available:\n\n \n\nGolf Presenting Peak of Hope Sponsor - $5000.00\n\nInvitation for 12 golfers\, naming rights for tournament as presenting sponsor\, logo recognition on tournament website\, logo recognition on sponsor banner\, name & company logo on promotional materials related to the event\, opportunity to co-brand golfer shirt\, 10 social media mentions - leading up to the tournament and including day of\n\n\n\nGolf Dinner Sponsor - $3000.00                                                   \n\nInvitation for 8 playing spots\, signage with company name and logo\,\n\nname and company logo on promotional materials related to the event\n\n\n\nGolf Bronze Sponsor - $1000.00\n\nInvitation for 4 playing spots\, hole sponsorship included\, logo recognition on website and sponsor banner\,name & logo on all other promotional materials\, 1 social media mention-day of tournament\n\n\n\nGolf Hole-in-One Sponsor - $750.00            \n\nMarketing table at hole\, signage with company logo at hole\, name and company logo on all other promotional materials related to the event.\n\n\n\nGolf Closest to the Pin Sponsor - $500.00            \n\nSignage with company logo at hole\, opportunity for company representative to greet golfers on range\, name and company logo on all other promotional materials related to the event                                  \n\n\n\nGolfers Gift (Range Gripper) - $500.00\n\nCompany logo to appear in full color on Range Gripper gift that each golfer will receive\n\n \n\nGolf Longest Drive Contest Sponsor - $400.00 \n\nSignage with company name & logo at driving range\, opportunity for company rep to greet golfers on range\, name & company logo on all other promotional materials related to the event\n\n\n\nGolf Beverage Cart Sponsorship - $400.00 \n\nSignage with company name & logo on beverage cart\, opportunity for company representative to greet golfers on range\n\n\n\nGolf Printing Sponsor - $250.00\n\nName & company logo on all promotional materials related to the event\n\n\n\nGolf Putting Contest Sponsor - $300.00\n\nSignage with company name and logo on putting green\, opportunity for company rep to greet golfers on green\n\n\n\nGolf Individual Player - $250.00\n\nGolf Individual Fee\n\n\n\nGolf Hole Sponsor - $250.00 \n\nSignage with company logo at hole\, may bring a marketing table to your hole\n\n\n\nGolden Ticket - $50.00\n\nGolfer may purchase. Includes: Mulligans\, Raffle Tickets\, Putting Contest\, Craft Beer Tasting\, Entry into Grand Prize and more!\n\n\n\n\n\nPlease click on Register Now above to choose a sponsorship.
X-ALT-DESC;FMTTYPE=text/html:<span style="background:white\;"><span style="color:#333333\;"><span style="font-family:arial\,sans-serif\;"><span style="font-size:10.0pt\;">Join us for our annual Peak of Hope Invitational!</span></span></span></span><br />\n<br />\n<span style="color:#333333\;"><span style="font-family:arial\,sans-serif\;"><span style="font-size:10.0pt\;"><span style="background:white\;">Golf Registration starts at 8:30 am</span><br />\n<span style="background:white\;">Shotgun Start at 10:00 am.</span><br />\n<span style="background:white\;">Awards &amp\; Reception to immediately follow after golf</span><br />\n<br />\n<strong>Sponsorships Available:</strong></span></span></span><br />\n&nbsp\;<br />\n<span style="color:#000000\;"><span style="font-size:14px\;"><span style="font-family:arial\;"><strong>Golf Presenting Peak of Hope Sponsor</strong>&nbsp\;<strong>-&nbsp\;$5000.00</strong><br />\n<em>Invitation for 12 golfers\, naming rights for tournament as presenting sponsor\, logo recognition on tournament website\, logo recognition on sponsor banner\, name &amp\; company logo on promotional materials related to the event\, opportunity to co-brand golfer shirt\, 10 social media mentions - leading up to the tournament and including day of</em><br />\n<br />\n<strong>Golf&nbsp\;Dinner Sponsor - $3000.00&nbsp\; &nbsp\;</strong>&nbsp\;&nbsp\;&nbsp\;&nbsp\;&nbsp\;&nbsp\;&nbsp\;&nbsp\;&nbsp\;&nbsp\;&nbsp\;&nbsp\;&nbsp\;&nbsp\;&nbsp\;&nbsp\;&nbsp\;&nbsp\;&nbsp\;&nbsp\;&nbsp\;&nbsp\;&nbsp\;&nbsp\;&nbsp\;&nbsp\;&nbsp\;&nbsp\;&nbsp\;&nbsp\;&nbsp\;&nbsp\;&nbsp\;&nbsp\;&nbsp\;&nbsp\;&nbsp\;&nbsp\;&nbsp\;&nbsp\;&nbsp\;&nbsp\;&nbsp\;&nbsp\;&nbsp\;&nbsp\; &nbsp\;<br />\n<em>Invitation for 8 playing spots\, signage with company name and logo\,<br />\nname and company logo on promotional materials related to the event</em><br />\n<br />\n<strong>Golf Bronze Sponsor -&nbsp\;$1000.00</strong><br />\n<em>Invitation for 4 playing spots\, hole sponsorship included\, logo recognition on website and sponsor banner\,name &amp\; logo on all other promotional materials\, 1 social media mention-day of tournament</em><br />\n<br />\n<strong>Golf&nbsp\;Hole-in-One Sponsor - $750.00&nbsp\;</strong>&nbsp\;&nbsp\; &nbsp\; &nbsp\; &nbsp\; &nbsp\;&nbsp\;</span><br />\n<em style="font-family: arial\; font-size: 12px\;">Marketing table at hole\, signage with company logo at hole\, name and company logo on all other promotional materials related to the event.</em><br style="font-family: arial\;" />\n<br />\n<span style="font-family:arial\;"><strong>Golf Closest to the Pin Sponsor - $500.00&nbsp\;</strong> &nbsp\; &nbsp\; &nbsp\; &nbsp\; &nbsp\;&nbsp\;<br />\n<em>Signage wit</em></span><em style="font-family: arial\; font-size: 12px\;">h company logo at hole\, opportunity for company representative to greet golfers on range\, name and company logo on all other promotional materials related to the event</em><span style="font-family:arial\;">&nbsp\; &nbsp\; &nbsp\; &nbsp\; &nbsp\; &nbsp\; &nbsp\; &nbsp\; &nbsp\; &nbsp\; &nbsp\; &nbsp\; &nbsp\; &nbsp\; &nbsp\; &nbsp\; &nbsp\;&nbsp\;</span><br style="font-family: arial\;" />\n<br style="font-family: arial\;" />\n<span style="font-family:arial\;"><strong>Golfers Gift (Range Gripper) - $500.00</strong><br />\n<em>Company logo to appear in full color on Range Gripper gift that each golfer will receive</em><br />\n&nbsp\;<br />\n<strong>Golf Longest Drive Contest Sponsor - $400.00</strong>&nbsp\;<br />\n<em>Signage with company name &amp\; logo at driving range\, opportunity for company rep to greet golfers on range\, name &amp\; company logo on all other promotional materials related to the event</em><br />\n<br />\n<strong>Golf Beverage Cart Sponsorship - $400.00</strong>&nbsp\;<br />\n<em>Signage with company name &amp\; logo on beverage cart\, opportunity for company representative to greet golfers on range</em><br />\n<br />\n<strong>Golf Printing Sponsor&nbsp\;- $250.00</strong><br />\n<em>Name &amp\;&nbsp\;company&nbsp\;logo on all promotional materials related to the event</em><br />\n<br />\n<strong>Golf Putting Contest Sponsor&nbsp\;- $300.00</strong><br />\n<em>Signage with company name and logo on putting green\, opportunity for company rep to greet golfers on green</em><br />\n<br />\n<strong>Golf Individual Player&nbsp\;- $250.00</strong><br />\n<em>Golf </em></span><span style="font-family: arial\;"><em>Individual Fee</em><br />\n<br />\n<strong>Golf Hole Sponsor - $250.00</strong>&nbsp\;<br />\n<em>Signage with company logo at hole\, may bring a marketing table to your hole</em></span><br />\n<br />\n<span style="font-family: arial\;"><strong>Golden&nbsp\;Ticket&nbsp\;- $50.00</strong></span><br />\n<em style="font-family: arial\; font-size: 12px\;">Golfer may purchase. Includes: Mulligans\, Raffle Tickets\, Putting Contest\, Craft Beer Tasting\, Entry into Grand Prize and more!</em></span></span><br />\n<br />\n<br />\n<span style="font-family:arial\;"><em><span style="color:#333333\;"><span style="font-size:9.0pt\;">Please click on Register Now above to choose a&nbsp\;sponsorship.</span></span></em></span>
LOCATION:MacGregor Downs Country Club 430 St Andrews Lane Cary\, NC
UID:e.502.6003
SEQUENCE:3
DTSTAMP:20260422T120252Z
URL:https://business.apexchamber.com/events/details/peak-of-hope-invitational-at-macgregor-downs-country-club-6003
END:VEVENT

END:VCALENDAR
