BEGIN:VCALENDAR
VERSION:2.0
PRODID:-//ChamberMaster//Event Calendar 2.0//EN
METHOD:PUBLISH
X-PUBLISHED-TTL:P3D
REFRESH-INTERVAL:P3D
CALSCALE:GREGORIAN
BEGIN:VEVENT
DTSTART:20250221T190000Z
DTEND:20250221T220000Z
X-MICROSOFT-CDO-ALLDAYEVENT:FALSE
SUMMARY:Peak Rehabilitation Hospital Open House
DESCRIPTION:Join us to celebrate the opening of Peak Rehabilitation Hospital's new state-of-the-art\, 62\,000-square-foot\, 52-bed freestanding facility. We offer:\n\n	 All private rooms with private bathrooms\n	Secured acquired brain injury unit with private dining room and therapy gym   Large interdisciplinary gyms\n	Transitional living apartment   including a fully functional kitchen\, living room\, bedroom\, bathroom\, and laundry facilities   designed to simulate a residential apartment\, to prepare patients for their daily living tasks before they are discharged home.\n	Therapeutic courtyard with miniature golf\, pickleball\, nature therapy\, and varied surface walking paths.\n	Specialty programs dedicated to neuro\, stroke\, brain injury\, spinal cord injury\, and amputation
X-ALT-DESC;FMTTYPE=text/html:Join us to celebrate the opening of Peak Rehabilitation Hospital&#39\;s new&nbsp\;state-of-the-art\, 62\,000-square-foot\, 52-bed freestanding facility. We offer:\n<ul>\n	<li>&nbsp\;All private rooms with private bathrooms</li>\n	<li>Secured acquired brain injury unit with private dining room and therapy gym &bull\; Large interdisciplinary gyms</li>\n	<li>Transitional living apartment &ndash\; including a fully functional kitchen\, living room\, bedroom\, bathroom\, and laundry facilities &ndash\; designed to simulate a residential apartment\, to prepare patients for their daily living tasks before they are discharged home.</li>\n	<li>Therapeutic courtyard with miniature golf\, pickleball\, nature therapy\, and varied surface walking paths.</li>\n	<li>Specialty programs dedicated to neuro\, stroke\, brain&nbsp\;injury\, spinal cord injury\, and amputation</li>\n</ul>\n
LOCATION:1401 Zeno Road Apex\, NC 27502
UID:e.502.11711
SEQUENCE:3
DTSTAMP:20260419T122058Z
URL:https://business.apexchamber.com/events/details/peak-rehabilitation-hospital-open-house-11711
END:VEVENT

END:VCALENDAR
