BEGIN:VCALENDAR
VERSION:2.0
PRODID:-//ChamberMaster//Event Calendar 2.0//EN
METHOD:PUBLISH
X-PUBLISHED-TTL:P3D
REFRESH-INTERVAL:P3D
CALSCALE:GREGORIAN
BEGIN:VEVENT
DTSTART:20260624T150000Z
DTEND:20260624T170000Z
X-MICROSOFT-CDO-ALLDAYEVENT:FALSE
SUMMARY:Peak Summit Series - Part 1
DESCRIPTION:Join us for an in-depth exploration of Energy & Infrastructure\, featuring insights from industry experts and led by our presenting sponsor\, Duke Energy.
X-ALT-DESC;FMTTYPE=text/html:<div data-olk-copy-source="MessageBody" style="border: 0px\; font-variant-numeric: inherit\; font-variant-east-asian: inherit\; font-variant-alternates: inherit\; font-variant-position: inherit\; font-variant-emoji: inherit\; font-stretch: inherit\; font-size: 12pt\; line-height: inherit\; font-family: Aptos\, Aptos_EmbeddedFont\, Aptos_MSFontService\, Calibri\, Helvetica\, sans-serif\; font-optical-sizing: inherit\; font-size-adjust: inherit\; font-kerning: inherit\; font-feature-settings: inherit\; font-variation-settings: inherit\; font-language-override: inherit\; margin: 0px\; padding: 0px\; vertical-align: baseline\; color: black\;">Join us for an in-depth exploration of Energy &amp\; Infrastructure\, featuring insights from industry experts and led by our presenting sponsor\, Duke Energy.</div>\n
LOCATION:Spring Hill Suites 1100 Marco Dr\, Apex\, NC 27502
UID:e.502.12219
SEQUENCE:3
DTSTAMP:20260424T234422Z
URL:https://business.apexchamber.com/events/details/peak-summit-series-part-1-12219
END:VEVENT

END:VCALENDAR
