BEGIN:VCALENDAR
VERSION:2.0
PRODID:-//ChamberMaster//Event Calendar 2.0//EN
METHOD:PUBLISH
X-PUBLISHED-TTL:P3D
REFRESH-INTERVAL:P3D
CALSCALE:GREGORIAN
BEGIN:VEVENT
DTSTART:20180525T120000Z
DTEND:20180525T210000Z
X-MICROSOFT-CDO-ALLDAYEVENT:FALSE
SUMMARY:Pre-Licensing Class May 25\, 2018
DESCRIPTION:State Approved Pre-Licensing class certificate is required for anyone applying for a Colorado used motor vehicle dealer license\, used powersports dealer license and wholesale motor vehicle dealer license.\n\nThis course covers compliance with the laws and regulations governing motor vehicle sales including Salesperson Licensing\, Advertising\, Repossessions\, Contracts\, Financing Disclosure Requirements\, Odometer Disclosure\, Title Delivery\, Damage Disclosure\, Branded Vehicles\, Emissions\, Credit application\, the Basic Car Deal plus more.\n\nClass held at the CIADA office located at 950 Wadsworth Boulevard Suite 101 in Lakewood\, Colorado\, 80214  (three story office building on the southeast corner of 10th and Wadsworth).   \n\nPLEASE NOTE - CLASS PARKING ACROSS STREET PER MAP BELOW
X-ALT-DESC;FMTTYPE=text/html:<p class="MsoNoSpacing" style="margin: 0in 0in 0pt\;"><span style="font-size: 14px\;"><span style="font-family: arial\;"><span style="color: rgb(0\, 0\, 128)\;"><strong><span lang="EN">State Approved Pre-Licensing class&nbsp\;certificate is required for anyone applying for a Colorado used motor vehicle dealer license\, used</span></strong><strong><span lang="EN"> </span></strong><span class="scayt-misspell-word3"><span data-scayt-lang="en_US" data-scayt-word="powersports"><b><span lang="EN">powersports</span></b></span></span><strong><span lang="EN"> dealer license and wholesale motor vehicle dealer license.</span></strong><br style="mso-special-character: line-break\;" />\n<strong><span lang="EN">This&nbsp\;course covers&nbsp\;</span></strong><b style="mso-bidi-font-weight: normal\;">compliance with the laws and regulations governing motor vehicle sales</b> <strong><span lang="EN">including Salesperson Licensing\, Advertising\, Repossessions\, Contracts\, Financing Disclosure Requirements\, Odometer Disclosure\, Title Delivery\, Damage Disclosure\, Branded Vehicles\, Emissions\, Credit application\, the Basic Car Deal&nbsp\;plus more.</span></strong></span></span></span></p>\n\n<p class="MsoNoSpacing" style="margin: 0in 0in 0pt\;"><span style="font-size: 14px\;"><span style="font-family: arial\;"><span style="color: rgb(0\, 0\, 128)\;"><strong><span lang="EN">Class held at&nbsp\;the </span></strong><span class="scayt-misspell-word3"><b><span lang="EN">CIADA</span></b></span><strong><span lang="EN"> office located at 950 Wadsworth Boulevard Suite 101 in Lakewood\, Colorado\, 80214 &nbsp\;(three story office building on the southeast corner of </span></strong><span class="scayt-misspell-word3"><b><span lang="EN">10th</span></b></span><strong><span lang="EN"> and Wadsworth).&nbsp\;&nbsp\;&nbsp\;</span></strong></span><br />\n<span style="color: rgb(255\, 0\, 0)\;"><strong><u><span lang="EN">PLEASE NOTE</span></u></strong><span lang="EN" style="mso-ansi-language: EN\;"> </span></span><span style="color: rgb(0\, 0\, 128)\;"><span lang="EN" style="mso-ansi-language: EN\;">- </span><strong><span lang="EN">CLASS PARKING ACROSS STREET PER MAP BELOW</span></strong></span></span></span></p>\n
LOCATION:950 Wadsworth Blvd Suite 101 Lakewood\, CO 80214
UID:e.9109.363
SEQUENCE:3
DTSTAMP:20260421T154146Z
URL:https://business.apexchamber.com/events/details/pre-licensing-class-may-25-2018-363
END:VEVENT

END:VCALENDAR
