BEGIN:VCALENDAR
VERSION:2.0
PRODID:-//ChamberMaster//Event Calendar 2.0//EN
METHOD:PUBLISH
X-PUBLISHED-TTL:P3D
REFRESH-INTERVAL:P3D
CALSCALE:GREGORIAN
BEGIN:VEVENT
DTSTART:20221007T160000Z
DTEND:20221007T170000Z
X-MICROSOFT-CDO-ALLDAYEVENT:FALSE
SUMMARY:Ribbon Cutting and Grand Opening for Patriot Blinds & More DBF INC!
DESCRIPTION:You are invited to join the Apex Chamber of Commerce for a Ribbon Cutting and Grand Opening Celebration for Patriot Blinds & More DBF INC!\n\n\n\nThere will be snacks and refreshments along with a tour provided of their brand-new facililty!
X-ALT-DESC;FMTTYPE=text/html:You are invited to join the Apex Chamber of Commerce for a Ribbon Cutting and Grand Opening Celebration for Patriot Blinds &amp\; More DBF INC!<br />\n<br />\nThere will be snacks and refreshments along with a tour provided of their brand-new facililty!
LOCATION:1600 Olive Chapel Rd Suite - Unit 200 Apex\, NC 27502
UID:e.502.9779
SEQUENCE:3
DTSTAMP:20260425T013624Z
URL:https://business.apexchamber.com/events/details/ribbon-cutting-and-grand-opening-for-patriot-blinds-more-dbf-inc-9779
END:VEVENT

END:VCALENDAR
