BEGIN:VCALENDAR
VERSION:2.0
PRODID:-//ChamberMaster//Event Calendar 2.0//EN
METHOD:PUBLISH
X-PUBLISHED-TTL:P3D
REFRESH-INTERVAL:P3D
CALSCALE:GREGORIAN
BEGIN:VEVENT
DTSTART:20220430T140000Z
DTEND:20220430T150000Z
X-MICROSOFT-CDO-ALLDAYEVENT:FALSE
SUMMARY:Ribbon Cutting and Grand Opening for South Kildaire KinderCare!
DESCRIPTION:You are invited to join the Apex Chamber of Commerce for a Ribbon Cutting and Grand Opening Celebration for South Kildaire KinderCare Daycare in Apex!
X-ALT-DESC;FMTTYPE=text/html:You are invited to join the Apex Chamber of Commerce for a Ribbon Cutting and Grand Opening Celebration for South Kildaire KinderCare Daycare in Apex!
LOCATION:3901 Kildaire Farm Rd Apex\, NC 27539
UID:e.502.9728
SEQUENCE:3
DTSTAMP:20260425T110722Z
URL:https://business.apexchamber.com/events/details/ribbon-cutting-and-grand-opening-for-south-kildaire-kindercare-9728
END:VEVENT

END:VCALENDAR
