BEGIN:VCALENDAR
VERSION:2.0
PRODID:-//ChamberMaster//Event Calendar 2.0//EN
METHOD:PUBLISH
X-PUBLISHED-TTL:P3D
REFRESH-INTERVAL:P3D
CALSCALE:GREGORIAN
BEGIN:VEVENT
DTSTART:20221026T183000Z
DTEND:20221026T193000Z
X-MICROSOFT-CDO-ALLDAYEVENT:FALSE
SUMMARY:Ribbon Cutting and Grand Re-Opening for Farm Bureau Insurance - David Bullard!
DESCRIPTION:You are invited to join the Apex Chamber of Commerce for a Ribbon Cutting and Grand Re-Opening Celebration for Farm Bureau Insurance - David Bullard's new office in Downtown Apex!
X-ALT-DESC;FMTTYPE=text/html:You are invited to join the Apex Chamber of Commerce for a Ribbon Cutting and Grand Re-Opening Celebration for Farm Bureau Insurance - David Bullard&#39\;s new office in Downtown Apex!
LOCATION:209 N Salem St Suite 200 Apex\, NC 27502
UID:e.502.9808
SEQUENCE:3
DTSTAMP:20260425T000151Z
URL:https://business.apexchamber.com/events/details/ribbon-cutting-and-grand-re-opening-for-farm-bureau-insurance-david-bullard-9808
END:VEVENT

END:VCALENDAR
