BEGIN:VCALENDAR
VERSION:2.0
PRODID:-//ChamberMaster//Event Calendar 2.0//EN
METHOD:PUBLISH
X-PUBLISHED-TTL:P3D
REFRESH-INTERVAL:P3D
CALSCALE:GREGORIAN
BEGIN:VEVENT
DTSTART:20260609T170000Z
DTEND:20260609T180000Z
X-MICROSOFT-CDO-ALLDAYEVENT:FALSE
SUMMARY:RIBBON CUTTING- APEX RACING LAB
DESCRIPTION:Join us at APEX RACING LAB to cheer on this super fun business in town\, while connecting with fellow chamber members there!
X-ALT-DESC;FMTTYPE=text/html:Join us at APEX RACING LAB to cheer on this super fun business in town\, while connecting with fellow chamber members there!
LOCATION:107 Edinburgh Drive S. Suite 106E Cary\, 27511
UID:e.502.12244
SEQUENCE:3
DTSTAMP:20260423T085227Z
URL:https://business.apexchamber.com/events/details/ribbon-cutting-apex-racing-lab-12244
END:VEVENT

END:VCALENDAR
