BEGIN:VCALENDAR
VERSION:2.0
PRODID:-//ChamberMaster//Event Calendar 2.0//EN
METHOD:PUBLISH
X-PUBLISHED-TTL:P3D
REFRESH-INTERVAL:P3D
CALSCALE:GREGORIAN
BEGIN:VEVENT
DTSTART:20250422T160000Z
DTEND:20250422T170000Z
X-MICROSOFT-CDO-ALLDAYEVENT:FALSE
SUMMARY:Ribbon Cutting for A Huenique Barbershop & Parlour
DESCRIPTION:Join us for a Ribbon Cutting\, celebrating the grand opening of A Huenique Barbershop & Parlour
X-ALT-DESC;FMTTYPE=text/html:Join us for a Ribbon Cutting\, celebrating the grand opening of A Huenique Barbershop &amp\; Parlour
LOCATION:100 W. Chatham St. Apex\, NC 27502
UID:e.502.11741
SEQUENCE:3
DTSTAMP:20260419T122310Z
URL:https://business.apexchamber.com/events/details/ribbon-cutting-for-a-huenique-barbershop-parlour-11741
END:VEVENT

END:VCALENDAR
