BEGIN:VCALENDAR
VERSION:2.0
PRODID:-//ChamberMaster//Event Calendar 2.0//EN
METHOD:PUBLISH
X-PUBLISHED-TTL:P3D
REFRESH-INTERVAL:P3D
CALSCALE:GREGORIAN
BEGIN:VEVENT
DTSTART:20241025T150000Z
DTEND:20241025T170000Z
X-MICROSOFT-CDO-ALLDAYEVENT:FALSE
SUMMARY:Ribbon Cutting for Audiology of Apex
DESCRIPTION:Join us for a free Ribbon Cutting to celebrate Audiology of Apex! Refreshments will be provided! The Ribbon Cutting will take place between 11a-12p with Mayor Gilbert.
X-ALT-DESC;FMTTYPE=text/html:Join us for a free Ribbon Cutting to celebrate Audiology of Apex! Refreshments will be provided! The Ribbon Cutting will take place between 11a-12p with Mayor Gilbert.&nbsp\;
LOCATION:1525 Apex Peakway Suite 105 Apex\, NC 27502
UID:e.502.11429
SEQUENCE:3
DTSTAMP:20260422T082810Z
URL:https://business.apexchamber.com/events/details/ribbon-cutting-for-audiology-of-apex-11429
END:VEVENT

END:VCALENDAR
