BEGIN:VCALENDAR
VERSION:2.0
PRODID:-//ChamberMaster//Event Calendar 2.0//EN
METHOD:PUBLISH
X-PUBLISHED-TTL:P3D
REFRESH-INTERVAL:P3D
CALSCALE:GREGORIAN
BEGIN:VEVENT
DTSTART:20190516T210000Z
DTEND:20190516T230000Z
X-MICROSOFT-CDO-ALLDAYEVENT:FALSE
SUMMARY:Ribbon Cutting for Entertainments Press
DESCRIPTION:Please join us for the ribbon cutting of Entertainments Press to celebrate the launch of Celeste Shirecliffe's book\, Hidden Contempt! Meet the author and cover artist\, and be among the first to get a signed copy of the book! Come enjoy a refreshing smoothie served in a pineapple from the State Fair favorite\, Tropical Delights! There will also be live music featuring local artist Ashlar Sargent and the opportunity to discover how to win a Trip to Hawaii!\n\nTo learn more about Celeste and her book go to www.celesteshirecliffe.com.
X-ALT-DESC;FMTTYPE=text/html:<span style="font-size:14px\;"><span style="background:#FAFAFA\;"><span style="color:#424242\;">Please join us for the ribbon cutting of Entertainments Press to celebrate the launch of Celeste Shirecliffe&#39\;s book\,&nbsp\;<em style="outline:0px\;"><span style="border:none windowtext 1.0pt\;padding:0in\;"><span style="font-family:calibri\,sans-serif\;">Hidden Contempt!</span></span></em>&nbsp\;Meet the author and cover artist\, and be among the first to get a signed copy of the book! Come enjoy a refreshing smoothie served in a pineapple from the State Fair favorite\, Tropical Delights! There will also be live music featuring local artist Ashlar Sargent&nbsp\;and the opportunity to discover how to win a Trip to Hawaii!</span></span><br style="outline:none\;" />\n<span style="color:#424242\;"><span style="background:#FAFAFA\;">To learn more about Celeste and her book go to&nbsp\;</span></span><a href="http://www.celesteshireliffe.com/" style="outline:0px\;text-decoration-line:none\;"><span style="border:none windowtext 1.0pt\;padding:0in\;background:#FAFAFA\;"><span style="color:#2B6893\;">www.celesteshirecliffe.com</span></span></a><span style="background:#FAFAFA\;"><span style="color:#424242\;">.</span></span></span><br />\n&nbsp\;
LOCATION:Apex Chamber of Commerce 220 N Salem Street Apex\, NC 27502
UID:e.502.7070
SEQUENCE:3
DTSTAMP:20260422T115239Z
URL:https://business.apexchamber.com/events/details/ribbon-cutting-for-entertainments-press-7070
END:VEVENT

END:VCALENDAR
