BEGIN:VCALENDAR
VERSION:2.0
PRODID:-//ChamberMaster//Event Calendar 2.0//EN
METHOD:PUBLISH
X-PUBLISHED-TTL:P3D
REFRESH-INTERVAL:P3D
CALSCALE:GREGORIAN
BEGIN:VEVENT
DTSTART:20190322T190000Z
DTEND:20190322T200000Z
X-MICROSOFT-CDO-ALLDAYEVENT:FALSE
SUMMARY:Ribbon Cutting for Executrixie\, LLC
DESCRIPTION:Join us for a Ribbon Cutting for Executrixie\, LLC!
X-ALT-DESC;FMTTYPE=text/html:Join us for a Ribbon Cutting for Executrixie\, LLC!&nbsp\;
LOCATION:Apex Chamber of Commerce 220 N. Salem Street Apex\, NC 27502
UID:e.502.7045
SEQUENCE:3
DTSTAMP:20260422T082334Z
URL:https://business.apexchamber.com/events/details/ribbon-cutting-for-executrixie-llc-7045
END:VEVENT

END:VCALENDAR
