BEGIN:VCALENDAR
VERSION:2.0
PRODID:-//ChamberMaster//Event Calendar 2.0//EN
METHOD:PUBLISH
X-PUBLISHED-TTL:P3D
REFRESH-INTERVAL:P3D
CALSCALE:GREGORIAN
BEGIN:VEVENT
DTSTART:20170307T160000Z
DTEND:20170307T170000Z
X-MICROSOFT-CDO-ALLDAYEVENT:FALSE
SUMMARY:Ribbon Cutting for Realization Press
DESCRIPTION:Join us for a Ribbon Cutting at the Apex Chamber of Commerce for Realization Press!
X-ALT-DESC;FMTTYPE=text/html:Join us for a Ribbon Cutting at the Apex Chamber of Commerce for Realization Press!
LOCATION:Apex Chamber of Commerce 220 N Salem Street Apex\, NC 27502
UID:e.502.3259
SEQUENCE:3
DTSTAMP:20260425T161212Z
URL:https://business.apexchamber.com/events/details/ribbon-cutting-for-realization-press-3259
END:VEVENT

END:VCALENDAR
