BEGIN:VCALENDAR
VERSION:2.0
PRODID:-//ChamberMaster//Event Calendar 2.0//EN
METHOD:PUBLISH
X-PUBLISHED-TTL:P3D
REFRESH-INTERVAL:P3D
CALSCALE:GREGORIAN
BEGIN:VEVENT
DTSTART:20190529T193000Z
DTEND:20190529T203000Z
X-MICROSOFT-CDO-ALLDAYEVENT:FALSE
SUMMARY:Ribbon Cutting for the Organized Mind Track Out Camp
DESCRIPTION:Join us as we celebrate new member\, The Organized Mind Track Out Camp\, with a Ribbon Cutting Celebration!
X-ALT-DESC;FMTTYPE=text/html:Join us as we celebrate new member\, The Organized Mind Track Out Camp\, with a Ribbon Cutting Celebration!
LOCATION:1701 Center Street\, Suite 100 Apex\, NC 27502
UID:e.502.7311
SEQUENCE:3
DTSTAMP:20260422T120628Z
URL:https://business.apexchamber.com/events/details/ribbon-cutting-for-the-organized-mind-track-out-camp-7311
END:VEVENT

END:VCALENDAR
