BEGIN:VCALENDAR
VERSION:2.0
PRODID:-//ChamberMaster//Event Calendar 2.0//EN
METHOD:PUBLISH
X-PUBLISHED-TTL:P3D
REFRESH-INTERVAL:P3D
CALSCALE:GREGORIAN
BEGIN:VEVENT
DTSTART:20250127T170000Z
DTEND:20250127T180000Z
X-MICROSOFT-CDO-ALLDAYEVENT:FALSE
SUMMARY:Ribbon Cutting for Thrivent Financial
DESCRIPTION:Join us for a Ribbon Cutting celebrating Thrivent Financial!
X-ALT-DESC;FMTTYPE=text/html:Join us for a Ribbon Cutting celebrating Thrivent Financial!
LOCATION:The Depot 220 N. Salem Street Apex\, NC 27502
UID:e.502.11504
SEQUENCE:3
DTSTAMP:20260425T150008Z
URL:https://business.apexchamber.com/events/details/ribbon-cutting-for-thrivent-financial-11504
END:VEVENT

END:VCALENDAR
