BEGIN:VCALENDAR
VERSION:2.0
PRODID:-//ChamberMaster//Event Calendar 2.0//EN
METHOD:PUBLISH
X-PUBLISHED-TTL:P3D
REFRESH-INTERVAL:P3D
CALSCALE:GREGORIAN
BEGIN:VEVENT
DTSTART:20260507T160000Z
DTEND:20260507T170000Z
X-MICROSOFT-CDO-ALLDAYEVENT:FALSE
SUMMARY:RIBBON CUTTING- FOXTAIL COFFEE- SWEETWATER
DESCRIPTION:Please join us to celebrate this new location of Foxtail Coffee!\n\n\n\nRibbon Cutting on Thursday\, May 7 from 12-1pm at the Sweetwater Foxtail location - 1451 Richardson Rd #126
X-ALT-DESC;FMTTYPE=text/html:<span style="font-family: Aptos\, Aptos_EmbeddedFont\, Aptos_MSFontService\, Calibri\, Helvetica\, sans-serif\; font-size: 12pt\; color: rgb(0\, 0\, 0)\;"><b data-olk-copy-source="MailCompose">Please join us to celebrate this new location of Foxtail Coffee!<br />\n<br />\nRibbon Cutting on Thursday\, May 7 from 12-1pm at the Sweetwater Foxtail location - 1451 Richardson Rd #126&nbsp\;</b></span>
LOCATION:Sweetwater Foxtail location - 1451 Richardson Rd #126
UID:e.502.12246
SEQUENCE:3
DTSTAMP:20260421T202003Z
URL:https://business.apexchamber.com/events/details/ribbon-cutting-foxtail-coffee-sweetwater-12246
END:VEVENT

END:VCALENDAR
