BEGIN:VCALENDAR
VERSION:2.0
PRODID:-//ChamberMaster//Event Calendar 2.0//EN
METHOD:PUBLISH
X-PUBLISHED-TTL:P3D
REFRESH-INTERVAL:P3D
CALSCALE:GREGORIAN
BEGIN:VEVENT
DTSTART:20200209T180000Z
DTEND:20200209T200000Z
X-MICROSOFT-CDO-ALLDAYEVENT:FALSE
SUMMARY:Ribbon Cutting & Grand Opening Event for Pilates En Pointe
DESCRIPTION:Join us for a Ribbon Cutting & Grand Opening Ceremony for Pilates En Pointe! Food\, Drinks and Prizes! Ribbon Cutting will commence at 1:45 pm.
X-ALT-DESC;FMTTYPE=text/html:Join us for a Ribbon Cutting &amp\; Grand Opening Ceremony for Pilates En Pointe! Food\, Drinks and Prizes! Ribbon Cutting will commence at 1:45 pm.
LOCATION:1480 Chapel Ridge Road Suite 240 Apex\, NC 27540 Located in the Olive Chapel Professional Park
UID:e.502.8263
SEQUENCE:3
DTSTAMP:20260424T073203Z
URL:https://business.apexchamber.com/events/details/ribbon-cutting-grand-opening-event-for-pilates-en-pointe-8263
END:VEVENT

END:VCALENDAR
