BEGIN:VCALENDAR
VERSION:2.0
PRODID:-//ChamberMaster//Event Calendar 2.0//EN
METHOD:PUBLISH
X-PUBLISHED-TTL:P3D
REFRESH-INTERVAL:P3D
CALSCALE:GREGORIAN
BEGIN:VEVENT
DTSTART:20180615T160000Z
DTEND:20180615T173000Z
X-MICROSOFT-CDO-ALLDAYEVENT:FALSE
SUMMARY:Savor Apex 2018
DESCRIPTION:Chamber Members\, please join us for our Annual Savor Apex Membership Appreciation Lunch!
X-ALT-DESC;FMTTYPE=text/html:Chamber Members\, please join us for our Annual Savor Apex Membership Appreciation Lunch!<br />\n&nbsp\;
LOCATION:Apex Chamber of Commerce 220 N. Salem Street Apex\, NC 27502
UID:e.502.5901
SEQUENCE:3
DTSTAMP:20260423T101556Z
URL:https://business.apexchamber.com/events/details/savor-apex-2018-5901
END:VEVENT

END:VCALENDAR
