BEGIN:VCALENDAR
VERSION:2.0
PRODID:-//ChamberMaster//Event Calendar 2.0//EN
METHOD:PUBLISH
X-PUBLISHED-TTL:P3D
REFRESH-INTERVAL:P3D
CALSCALE:GREGORIAN
BEGIN:VEVENT
DTSTART:20170920T200000Z
DTEND:20170920T230000Z
X-MICROSOFT-CDO-ALLDAYEVENT:FALSE
SUMMARY:SCORE
DESCRIPTION:Raleigh SCORE is dedicated to educating entrepreneurs and encouraging the formation\, growth and success of small business by providing outstanding\, FREE counseling and low cost educational workshops to start-ups and small businesses.  SCORE can help with organization\, finances\, marketing\, sales\, and operations. \n\n\n\nScheduled appointments and walk-ins are available at seven convenient business counseling locations around Raleigh.  Please go to www.https://raleigh.score.org/ to schedule an appointment.
X-ALT-DESC;FMTTYPE=text/html:Raleigh SCORE is dedicated to educating entrepreneurs and encouraging the formation\, growth and success of small business by providing outstanding\, FREE counseling and low cost educational workshops to start-ups and small businesses.&nbsp\; SCORE can help with organization\, finances\, marketing\, sales\, and operations.&nbsp\;<br />\n<br />\nScheduled appointments and walk-ins are available at seven convenient business counseling locations around Raleigh.&nbsp\; Please go to www.<a href="https://raleigh.score.org/">https://raleigh.score.org/</a>&nbsp\;to schedule an appointment.
LOCATION:Apex Chamber of Commerce 220 North Salem Street Apex\, NC 27502
UID:e.502.4533
SEQUENCE:3
DTSTAMP:20260424T075050Z
URL:https://business.apexchamber.com/events/details/score-09-20-2017-4533
END:VEVENT

END:VCALENDAR
