BEGIN:VCALENDAR
VERSION:2.0
PRODID:-//ChamberMaster//Event Calendar 2.0//EN
METHOD:PUBLISH
X-PUBLISHED-TTL:P3D
REFRESH-INTERVAL:P3D
CALSCALE:GREGORIAN
BEGIN:VEVENT
DTSTART:20170621T200000Z
DTEND:20170621T230000Z
X-MICROSOFT-CDO-ALLDAYEVENT:FALSE
SUMMARY:SCORE
DESCRIPTION:
X-ALT-DESC;FMTTYPE=text/html:
LOCATION:Apex Chamber of Commerce 220 N. Salem Street Apex\, NC 27502
UID:e.502.2999
SEQUENCE:3
DTSTAMP:20260425T122218Z
URL:https://business.apexchamber.com/events/details/score-2999
END:VEVENT

END:VCALENDAR
