BEGIN:VCALENDAR
VERSION:2.0
PRODID:-//ChamberMaster//Event Calendar 2.0//EN
METHOD:PUBLISH
X-PUBLISHED-TTL:P3D
REFRESH-INTERVAL:P3D
CALSCALE:GREGORIAN
BEGIN:VEVENT
DTSTART:20170927T200000Z
DTEND:20170927T230000Z
X-MICROSOFT-CDO-ALLDAYEVENT:FALSE
SUMMARY:SCORE
DESCRIPTION:
X-ALT-DESC;FMTTYPE=text/html:
LOCATION:Apex Chamber of Commerce 220 N. Salem Street Apex\, NC 27502
UID:e.502.3030
SEQUENCE:3
DTSTAMP:20260424T194245Z
URL:https://business.apexchamber.com/events/details/score-3030
END:VEVENT

END:VCALENDAR
