BEGIN:VCALENDAR
VERSION:2.0
PRODID:-//ChamberMaster//Event Calendar 2.0//EN
METHOD:PUBLISH
X-PUBLISHED-TTL:P3D
REFRESH-INTERVAL:P3D
CALSCALE:GREGORIAN
BEGIN:VEVENT
DTSTART:20180504T220000Z
DTEND:20180505T020000Z
X-MICROSOFT-CDO-ALLDAYEVENT:FALSE
SUMMARY:Sequins and Spurs Gala
DESCRIPTION:Our 13th annual Sequins and Spurs gala will be held at 6:30pm on May 4\, 2018 at the beautiful Prestonwood Country Club.  It will be a wonderful night of food\, fun\, live music and amazing auction items. You can buy tickets online at www.horseandbuddy.org.
X-ALT-DESC;FMTTYPE=text/html:<span style="color:rgb(0\, 0\, 0)\; font-family:avenir-lt-w01_35-light1475496\,sans-serif\; font-size:18px">Our 13th annual Sequins and Spurs gala will be held at 6:30pm on May 4\, 2018 at the beautiful Prestonwood Country Club.&nbsp\; It will be a wonderful night of food\, fun\, live music and amazing auction items. You can buy tickets online at www.horseandbuddy.org.</span>
LOCATION:Prestonwood Country Club\, Cary\, NC
UID:e.502.5882
SEQUENCE:3
DTSTAMP:20260421T095053Z
URL:https://business.apexchamber.com/events/details/sequins-and-spurs-gala-5882
END:VEVENT

END:VCALENDAR
