BEGIN:VCALENDAR
VERSION:2.0
PRODID:-//ChamberMaster//Event Calendar 2.0//EN
METHOD:PUBLISH
X-PUBLISHED-TTL:P3D
REFRESH-INTERVAL:P3D
CALSCALE:GREGORIAN
BEGIN:VEVENT
DTSTART:20170917T163000Z
DTEND:20170917T180000Z
X-MICROSOFT-CDO-ALLDAYEVENT:FALSE
SUMMARY:Single Mom Care and Support Group
DESCRIPTION:Free Event for Single Moms - \n\n  Join other single Moms for lunch\, devotional/sharing time\; door prizes and a take home "treat" of some sore for all moms.   Childcare and lunch provided for children and teens.  For more information or to RSVP please contact\n\nRev. Terry Jane at women@nhf.cc
X-ALT-DESC;FMTTYPE=text/html:Free Event for Single Moms -&nbsp\;<br />\n&nbsp\;&nbsp\;Join other single Moms for lunch\, devotional/sharing time\; door prizes and a take home &quot\;treat&quot\; of some sore for all moms. &nbsp\; Childcare and lunch provided for children and teens. &nbsp\;For more information or to RSVP please contact<br />\nRev. Terry Jane at women@nhf.cc
LOCATION:New Horizons Fellowship 820 E Williams St Apex\, NC 27502
UID:e.502.3502
SEQUENCE:3
DTSTAMP:20260424T153435Z
URL:https://business.apexchamber.com/events/details/single-mom-care-and-support-group-3502
END:VEVENT

END:VCALENDAR
