BEGIN:VCALENDAR
VERSION:2.0
PRODID:-//ChamberMaster//Event Calendar 2.0//EN
METHOD:PUBLISH
X-PUBLISHED-TTL:P3D
REFRESH-INTERVAL:P3D
CALSCALE:GREGORIAN
BEGIN:VEVENT
DTSTART:20171207T000000Z
DTEND:20171207T013000Z
X-MICROSOFT-CDO-ALLDAYEVENT:FALSE
SUMMARY:Single Mom's Bible Study
DESCRIPTION:Single Moms Small Group 1st & 3rd Wednesday Nights 7:00pm   8:30pm Beginning October 4\, 2017 New Horizons Fellowship 820 E. Williams St. Apex\, NC 27502 Childcare provided \n\nBible Study: Reclaiming Your Heart: A Journey Back to Laughing\, Loving and Living
X-ALT-DESC;FMTTYPE=text/html:<span style="background-color:rgb(255\, 255\, 255)\; color:rgb(51\, 51\, 51)\; font-family:helveticaneue\,helvetica neue\,helvetica\,roboto\,segoe ui\,arial\,sans-serif\; font-size:14px">Single Moms Small Group 1st &amp\; 3rd Wednesday Nights 7:00pm &ndash\; 8:30pm Beginning October 4\, 2017 New Horizons Fellowship 820 E. Williams St. Apex\, NC 27502 Childcare provided&nbsp\;<br />\nBible Study: Reclaiming Your Heart: A Journey Back to Laughing\, Loving and Living</span>
LOCATION:New Horizons Fellowship 820 E Williams St\, Apex
UID:e.502.5035
SEQUENCE:3
DTSTAMP:20260423T024838Z
URL:https://business.apexchamber.com/events/details/single-mom-s-bible-study-12-06-2017-5035
END:VEVENT

END:VCALENDAR
