BEGIN:VCALENDAR
VERSION:2.0
PRODID:-//ChamberMaster//Event Calendar 2.0//EN
METHOD:PUBLISH
X-PUBLISHED-TTL:P3D
REFRESH-INTERVAL:P3D
CALSCALE:GREGORIAN
BEGIN:VEVENT
DTSTART:20181107T170000Z
DTEND:20181107T180000Z
X-MICROSOFT-CDO-ALLDAYEVENT:FALSE
SUMMARY:Skin Wellness Workshop - Lunch & Learn
DESCRIPTION:Looking for clean\, safe and simple\, easy \n\nregimen to achieve healthy\, youthful skin?\n\n \n\nCome to learn and experience\n\n how TruAura\, a probiotic based\, and microbiome friendly skin care can deliver!\n\n \n\n**The primary focus is men's skin health.\n\n Ladies are welcomed to come or bring your men to \n\nshare time & ideas that maybe beneficial to them** \n\n\n\nRSVP to skelly@cvsliving.com or\n\nFrieda_lin@hotmail.com\, 561-578-7109
X-ALT-DESC;FMTTYPE=text/html:<strong><em><span style="color:#0070C0"><span style="font-family:century gothic\,sans-serif"><span style="font-size:18.0pt">Looking for clean\, safe and simple\, easy </span></span></span></em></strong><br />\n<strong><em><span style="color:#0070C0"><span style="font-family:century gothic\,sans-serif"><span style="font-size:18.0pt">regimen to achieve healthy\, youthful skin?</span></span></span></em></strong><br />\n&nbsp\;<br />\n<strong><em><span style="color:#0070C0"><span style="font-family:century gothic\,sans-serif"><span style="font-size:18.0pt">Come to learn and experience</span></span></span></em></strong><br />\n<strong><em><span style="color:#0070C0"><span style="font-family:century gothic\,sans-serif"><span style="font-size:18.0pt">&nbsp\;how TruAura\, a probiotic based\, and</span></span></span></em></strong><strong><em><span style="color:#0070C0"><span style="font-family:century gothic\,sans-serif"><span style="font-size:18.0pt"> microbiome friendly skin care can deliver!</span></span></span></em></strong><br />\n&nbsp\;<br />\n<strong><em><span style="font-family:century gothic\,sans-serif"><span style="font-size:14.0pt">**The primary focus is men&rsquo\;s skin health.</span></span></em></strong><br />\n<strong><em><span style="font-family:century gothic\,sans-serif"><span style="font-size:14.0pt">&nbsp\;Ladies are welcomed to come or bring your men to </span></span></em></strong><br />\n<strong><em><span style="font-family:century gothic\,sans-serif"><span style="font-size:14.0pt">share time &amp\; ideas that maybe beneficial to them** </span></span></em></strong><br />\n<br />\n<span style="color:#404040"><span style="font-family:bookman old style\,serif"><span style="font-size:14.0pt">RSVP to </span></span></span><span style="font-family:open sans\,sans-serif"><span style="font-size:13.5pt"><a href="mailto:skelly@cvsliving.com">skelly@cvsliving.com</a></span></span> or<br />\n<span style="font-family:bookman old style\,serif"><span style="font-size:14.0pt"><a href="mailto:Frieda_lin@hotmail.com">Frieda_lin@hotmail.com</a></span></span><span style="color:#404040"><span style="font-family:bookman old style\,serif"><span style="font-size:14.0pt">\, 561-578-7109</span></span></span><br />\n<br />\n&nbsp\;
LOCATION:10000 Cambridge Village Loop Apex\, NC 27502
UID:e.502.6210
SEQUENCE:3
DTSTAMP:20260424T050656Z
URL:https://business.apexchamber.com/events/details/skin-wellness-workshop-lunch-learn-6210
END:VEVENT

END:VCALENDAR
