BEGIN:VCALENDAR
VERSION:2.0
PRODID:-//ChamberMaster//Event Calendar 2.0//EN
METHOD:PUBLISH
X-PUBLISHED-TTL:P3D
REFRESH-INTERVAL:P3D
CALSCALE:GREGORIAN
BEGIN:VEVENT
DTSTART:20240913T173000Z
DTEND:20240913T193000Z
X-MICROSOFT-CDO-ALLDAYEVENT:FALSE
SUMMARY:Sporting Clay Tournament
DESCRIPTION:Please come out and join the Apex Chamber at our Fall Sporting Clay Tournament\, at the beautiful Drakes Landing!\n\n\n\nThe Sporting Clays\, Ammunition\, Gun Rental\, Targets\, Safety Glasses\, and Ear Plugs are all included! If you own any of the above equipment\, you are welcome to bring your own!\n\n\n\nSponsorships are available\; grab yours in advance to make the most of the marketing opportunities!
X-ALT-DESC;FMTTYPE=text/html:Please come out and join the Apex Chamber at our Fall Sporting Clay Tournament\, at the beautiful Drakes Landing!<br />\n<br />\nThe Sporting Clays\, Ammunition\, Gun Rental\, Targets\, Safety Glasses\, and Ear Plugs are all included! If you own any of the above equipment\, you are welcome to bring your own!<br />\n<br />\nSponsorships are available\; grab yours in advance to make the most of the marketing opportunities!
LOCATION:Drakes Landing LLC 3146 Chalybeate Springs Rd Fuquay-Varina\, NC 27526
UID:e.502.10784
SEQUENCE:3
DTSTAMP:20260420T095140Z
URL:https://business.apexchamber.com/events/details/sporting-clay-tournament-10784
END:VEVENT

END:VCALENDAR
