BEGIN:VCALENDAR
VERSION:2.0
PRODID:-//ChamberMaster//Event Calendar 2.0//EN
METHOD:PUBLISH
X-PUBLISHED-TTL:P3D
REFRESH-INTERVAL:P3D
CALSCALE:GREGORIAN
BEGIN:VEVENT
DTSTART:20171021T180000Z
DTEND:20171021T200000Z
X-MICROSOFT-CDO-ALLDAYEVENT:FALSE
SUMMARY:Spring Arbor Fall Festival
DESCRIPTION:Spring Arbor Fall Festival.  Free event with food and fun for the entire family\; haunted house\, "Trunk of Treat"\, antique cars.
X-ALT-DESC;FMTTYPE=text/html:Spring Arbor Fall Festival.&nbsp\; Free event with food and fun for the entire family\; haunted house\, &quot\;Trunk of Treat&quot\;\, antique cars.
LOCATION:
UID:e.502.5044
SEQUENCE:3
DTSTAMP:20260424T110357Z
URL:https://business.apexchamber.com/events/details/spring-arbor-fall-festival-5044
END:VEVENT

END:VCALENDAR
