BEGIN:VCALENDAR
VERSION:2.0
PRODID:-//ChamberMaster//Event Calendar 2.0//EN
METHOD:PUBLISH
X-PUBLISHED-TTL:P3D
REFRESH-INTERVAL:P3D
CALSCALE:GREGORIAN
BEGIN:VEVENT
DTSTART:20210713T123000Z
DTEND:20210713T133000Z
X-MICROSOFT-CDO-ALLDAYEVENT:FALSE
SUMMARY:Success in Sixty (in person)
DESCRIPTION:Join the Apex Chamber\, chamber members\, and guests for an Success in 60 Am Networking!
X-ALT-DESC;FMTTYPE=text/html:Join the Apex Chamber\, chamber members\, and guests for an Success in 60 Am Networking!
LOCATION:Olive Chapel Professional Park - Olive Chapel Co working Space 1480 Chapel Ridge Rd Suite 100\, Apex\, NC 27502
UID:e.502.8737
SEQUENCE:3
DTSTAMP:20260425T231241Z
URL:https://business.apexchamber.com/events/details/success-in-sixty-in-person-8737
END:VEVENT

END:VCALENDAR
