BEGIN:VCALENDAR
VERSION:2.0
PRODID:-//ChamberMaster//Event Calendar 2.0//EN
METHOD:PUBLISH
X-PUBLISHED-TTL:P3D
REFRESH-INTERVAL:P3D
CALSCALE:GREGORIAN
BEGIN:VEVENT
DTSTART:20210817T123000Z
DTEND:20210817T133000Z
X-MICROSOFT-CDO-ALLDAYEVENT:FALSE
SUMMARY:Success in Sixty sponsored by Cambridge Village of Apex
DESCRIPTION:Join the Apex Chamber\, chamber members\, and guests for an in person networking session and hear all about our featured sponsor\, Cambridge Village of Apex!\n\nWe are following all State & Local Mandates and will keep you updated if there are any changes.
X-ALT-DESC;FMTTYPE=text/html:Join the Apex Chamber\, chamber members\, and guests for an in person networking session and hear all about our featured sponsor\, Cambridge Village of Apex!<br />\nWe are following all State &amp\; Local Mandates and will keep you updated if there are any changes.
LOCATION:10000 Cambridge Village Loop Apex\, NC 27502
UID:e.502.8738
SEQUENCE:3
DTSTAMP:20260426T004012Z
URL:https://business.apexchamber.com/events/details/success-in-sixty-sponsored-by-cambridge-village-of-apex-8738
END:VEVENT

END:VCALENDAR
