BEGIN:VCALENDAR
VERSION:2.0
PRODID:-//ChamberMaster//Event Calendar 2.0//EN
METHOD:PUBLISH
X-PUBLISHED-TTL:P3D
REFRESH-INTERVAL:P3D
CALSCALE:GREGORIAN
BEGIN:VEVENT
DTSTART:20180717T224500Z
DTEND:20180718T000000Z
X-MICROSOFT-CDO-ALLDAYEVENT:FALSE
SUMMARY:Supplements- How to Decipher Quality & Effectiveness?
DESCRIPTION:Are you taking the Right Supplements??\n\nEssential Oils -The Immune System of the Plant -& Wholefood Supplements Can \n\n Re-Balance/Replenish Naturally\nEXPLORE---EXPERIENCE --- SHARE\n\nGet Empowered to Take Control of Your Life!\n\nWe'll meet every 3rd Tuesday!
X-ALT-DESC;FMTTYPE=text/html:<div style="text-align:center"><strong><span style="color:rgb(0\, 32\, 96)"><span style="font-family:arial narrow\,sans-serif"><span style="font-size:40pt">Are you taking the Right Supplements??</span></span></span></strong><br />\n<strong><span style="color:rgb(0\, 32\, 96)"><span style="font-family:arial narrow\,sans-serif"><span style="font-size:38pt">Essential Oils -The Immune System of the Plant -&amp\; Wholefood Supplements Can&nbsp\;</span></span></span></strong><br />\n<strong><span style="color:rgb(0\, 32\, 96)"><span style="font-family:arial narrow\,sans-serif"><span style="font-size:38pt">&nbsp\;Re-Balance/Replenish&nbsp\;</span></span></span></strong><strong><span style="color:rgb(0\, 32\, 96)"><span style="font-family:arial narrow\,sans-serif"><span style="font-size:38pt">Naturally</span></span></span></strong></div>\n<strong><span style="color:green"><span style="font-family:arial narrow\,sans-serif"><span style="font-size:28pt">EXPLORE---EXPERIENCE --- SHARE</span></span></span></strong><br />\n<strong><span style="color:blue"><span style="font-family:arial narrow\,sans-serif"><span style="font-size:24pt">Get Empowered to Take Control of Your Life!</span></span></span></strong><br />\n<strong><span style="font-family:arial narrow\,sans-serif"><span style="font-size:20pt">We&rsquo\;ll meet every 3<sup>rd</sup> Tuesday!</span></span></strong><br />\n&nbsp\;
LOCATION:Apex Chamber Conference Room\, 220 N.Salem St\, Apex NC
UID:e.502.5993
SEQUENCE:3
DTSTAMP:20260420T213539Z
URL:https://business.apexchamber.com/events/details/supplements-how-to-decipher-quality-effectiveness-5993
END:VEVENT

END:VCALENDAR
