BEGIN:VCALENDAR
VERSION:2.0
PRODID:-//ChamberMaster//Event Calendar 2.0//EN
METHOD:PUBLISH
X-PUBLISHED-TTL:P3D
REFRESH-INTERVAL:P3D
CALSCALE:GREGORIAN
BEGIN:VEVENT
DTSTART:20170810T160000Z
DTEND:20170811T160000Z
X-MICROSOFT-CDO-ALLDAYEVENT:FALSE
SUMMARY:The Global Leadership Summit
DESCRIPTION:Join us for 2017 The Global Leadership Summit for a unique blend of vision\, inspiration and practical skills you can immediately apply. Come with your team and network with other like-minded leaders in your community. Your influence is critically important right where you are!\n\nPlease click on willowcreek.com/summit for more details and to register!
X-ALT-DESC;FMTTYPE=text/html:Join us for 2017 The Global Leadership Summit for a unique blend of vision\, inspiration and practical skills you can immediately apply. Come with your team and network with other like-minded leaders in your community. Your influence is critically important right where you are!<br />\nPlease click on <a href="https://www.willowcreek.com/events/leadership/?gclid=CjwKCAjwqcHLBRAqEiwA-j4AyOzVjCGgMsy_ss5F6Vvh60hY1HunW6jO23bORT-PZU_A2iVX9sustxoCHUgQAvD_BwE">willowcreek.com/summit</a> for more details and to register!
LOCATION:Apex Baptist Church 110 S Salem Street Apex\, NC 27502
UID:e.502.4736
SEQUENCE:3
DTSTAMP:20260426T002214Z
URL:https://business.apexchamber.com/events/details/the-global-leadership-summit-4736
END:VEVENT

END:VCALENDAR
