BEGIN:VCALENDAR
VERSION:2.0
PRODID:-//ChamberMaster//Event Calendar 2.0//EN
METHOD:PUBLISH
X-PUBLISHED-TTL:P3D
REFRESH-INTERVAL:P3D
CALSCALE:GREGORIAN
BEGIN:VEVENT
DTSTART:20221015T223000Z
DTEND:20221016T000000Z
X-MICROSOFT-CDO-ALLDAYEVENT:FALSE
SUMMARY:The Miracles - Cheerabilities Cheerleading Team Open House
DESCRIPTION:Showtime Elite will be holding an interactive Open House on Saturday\, October 15th from 6:30pm - 8:00pm for our NEW Cheerabilities Cheerleading Team called The Miracles. This is for boys and girls ages 5 - 25. All abilities are welcome. If you have any questions\, please contact Jennifer@Rockstarhollysprings.com.
X-ALT-DESC;FMTTYPE=text/html:<span style="color:rgb(5\, 5\, 5)\; font-family:segoe ui historic\,segoe ui\,helvetica\,arial\,sans-serif\; font-size:15px">Showtime Elite will be holding an interactive Open House on Saturday\, October 15th from 6:30pm - 8:00pm for our NEW Cheerabilities Cheerleading Team called The Miracles. This is for boys and girls ages 5 - 25. All abilities are welcome. If you have any questions\, please contact Jennifer@Rockstarhollysprings.com.</span>
LOCATION:
UID:e.502.9811
SEQUENCE:3
DTSTAMP:20260425T013154Z
URL:https://business.apexchamber.com/events/details/the-miracles-cheerabilities-cheerleading-team-open-house-9811
END:VEVENT

END:VCALENDAR
