BEGIN:VCALENDAR
VERSION:2.0
PRODID:-//ChamberMaster//Event Calendar 2.0//EN
METHOD:PUBLISH
X-PUBLISHED-TTL:P3D
REFRESH-INTERVAL:P3D
CALSCALE:GREGORIAN
BEGIN:VEVENT
DTSTART;VALUE=DATE:20180821
DTEND;VALUE=DATE:20180822
TRANSP:TRANSPARENT
X-MICROSOFT-CDO-ALLDAYEVENT:TRUE
SUMMARY:Triangle Book & Writer Conference
DESCRIPTION:If you ever thought about writing a book\, if you want to enhance your reputation\, if you are working on a book\, or if you've written one already and wonder what to do next\, the Triangle Book & Writer Conference is for you!\n\nThe conference includes a Keynote speaker and 6 panels. \n\nKeynote: Leveraging your Personal Brand to Sell More Books\n\nOur panels are:\n\n	How to Start Your Book/Finish Your Book\n	Independent and Traditional Publishers\n	Top 10 Editing Mistakes to Avoid\n	Beyond Your Book (Film or Speaker)\n	Poetry and Song\n	Marketing Made Easier
X-ALT-DESC;FMTTYPE=text/html:<span style="font-family:bookman old style\,serif"><span style="font-size:12.0pt">If you ever thought about writing a book\, if you want to enhance your reputation\, if you are working on a book\, or if you&rsquo\;ve written one already and wonder what to do next\, the Triangle Book &amp\; Writer Conference is for you!</span></span><br />\n<span style="font-family:bookman old style\,serif"><span style="font-size:12.0pt">The conference includes <strong>a</strong> <strong>Keynote speaker and 6 panels</strong>. </span></span><br />\n<span style="font-family:bookman old style\,serif"><span style="font-size:12.0pt">Keynote: Leveraging your Personal Brand to Sell More Books</span></span><br />\n<span style="font-family:bookman old style\,serif"><span style="font-size:12.0pt">Our panels are:</span></span>\n<ul>\n	<li><span style="font-family:bookman old style\,serif"><span style="font-size:12.0pt">How to Start Your Book/Finish Your Book</span></span></li>\n	<li><span style="font-family:bookman old style\,serif"><span style="font-size:12.0pt">Independent and Traditional Publishers</span></span></li>\n	<li><span style="font-family:bookman old style\,serif"><span style="font-size:12.0pt">Top 10 Editing Mistakes to Avoid</span></span></li>\n	<li><span style="font-family:bookman old style\,serif"><span style="font-size:12.0pt">Beyond Your Book (Film or Speaker)</span></span></li>\n	<li><span style="font-family:bookman old style\,serif"><span style="font-size:12.0pt">Poetry and Song</span></span></li>\n	<li><span style="font-family:bookman old style\,serif"><span style="font-size:12.0pt">Marketing Made Easier</span></span></li>\n</ul>\n
LOCATION:The McKimmon Center at North Carolina State
UID:e.502.6178
SEQUENCE:3
DTSTAMP:20260420T020226Z
URL:https://business.apexchamber.com/events/details/triangle-book-writer-conference-6178
END:VEVENT

END:VCALENDAR
