BEGIN:VCALENDAR
VERSION:2.0
PRODID:-//ChamberMaster//Event Calendar 2.0//EN
METHOD:PUBLISH
X-PUBLISHED-TTL:P3D
REFRESH-INTERVAL:P3D
CALSCALE:GREGORIAN
BEGIN:VEVENT
DTSTART:20201022T160000Z
DTEND:20201022T170000Z
X-MICROSOFT-CDO-ALLDAYEVENT:FALSE
SUMMARY:Virtual Chamber 101
DESCRIPTION:Join us for our Chamber 101 Class where you learn all about your Chamber Member Benefits and get the most out of your membership! You will receive a Teams invite the day before this class.
X-ALT-DESC;FMTTYPE=text/html:Join us for our Chamber 101 Class where you learn all about your Chamber Member Benefits and get the most out of your membership! You will receive a Teams invite the day before this class.&nbsp\;
LOCATION:Virtual
UID:e.502.8194
SEQUENCE:3
DTSTAMP:20260421T100425Z
URL:https://business.apexchamber.com/events/details/virtual-chamber-101-10-22-2020-8194
END:VEVENT

END:VCALENDAR
