BEGIN:VCALENDAR
VERSION:2.0
PRODID:-//ChamberMaster//Event Calendar 2.0//EN
METHOD:PUBLISH
X-PUBLISHED-TTL:P3D
REFRESH-INTERVAL:P3D
CALSCALE:GREGORIAN
BEGIN:VEVENT
DTSTART:20210802T200000Z
DTEND:20210802T210000Z
X-MICROSOFT-CDO-ALLDAYEVENT:FALSE
SUMMARY:Virtual Happy Hour hosted by Chamber Ambassador Tina Owen
DESCRIPTION:Join us for virtual networking hosted by one of our volunteer Chamber Ambassadors! Connect in a casual environment of open networking with other chamber members.
X-ALT-DESC;FMTTYPE=text/html:Join us for virtual networking hosted by one of our volunteer Chamber Ambassadors! Connect in a casual environment of open networking with other chamber members.
LOCATION:Please click below Zoom Link to join the meeting: https://us02web.zoom.us/j/83772764359?pwd=bDdSMGwweUQ5dnB4UFRZL1hLVXNxZz09
UID:e.502.9298
SEQUENCE:3
DTSTAMP:20260426T003256Z
URL:https://business.apexchamber.com/events/details/virtual-happy-hour-hosted-by-chamber-ambassador-tina-owen-9298
END:VEVENT

END:VCALENDAR
