BEGIN:VCALENDAR
VERSION:2.0
PRODID:-//ChamberMaster//Event Calendar 2.0//EN
METHOD:PUBLISH
X-PUBLISHED-TTL:P3D
REFRESH-INTERVAL:P3D
CALSCALE:GREGORIAN
BEGIN:VEVENT
DTSTART:20180301T170000Z
DTEND:20180301T183000Z
X-MICROSOFT-CDO-ALLDAYEVENT:FALSE
SUMMARY:Wake Tech Business Solutions Class
DESCRIPTION:Join us for a free Wake Tech Corporate & Business Solutions Session.
X-ALT-DESC;FMTTYPE=text/html:Join us for a free Wake Tech Corporate &amp\; Business Solutions Session.
LOCATION:Wake Tech - Western Campus 3434 Kildaire Farm Road\, Room 118 Cary\, NC
UID:e.502.5128
SEQUENCE:3
DTSTAMP:20260422T140950Z
URL:https://business.apexchamber.com/events/details/wake-tech-business-solutions-class-5128
END:VEVENT

END:VCALENDAR
